BEGIN:VCALENDAR
VERSION:2.0
PRODID:-//ChamberMaster//Event Calendar 2.0//EN
METHOD:PUBLISH
X-PUBLISHED-TTL:P3D
REFRESH-INTERVAL:P3D
CALSCALE:GREGORIAN
BEGIN:VEVENT
DTSTART:20150321T233000Z
DTEND:20150322T010000Z
X-MICROSOFT-CDO-ALLDAYEVENT:FALSE
SUMMARY:Joe Diffie
DESCRIPTION:With chart-toppers like Pickup Man\, Third Rock From the Sun\, and John Deere Green\, and 13 albums and over 20 Top 10 singles to his credit\, Joe Diffie has yet to quench the desire to make good country music. A renowned songwriter in his own right who recently turned his focus back to writing after years on the road\, Joe has written hits for artists like Tim McGraw\, Conway Twitty\, Jo Dee Messina and many more. Whether it's writing\, touring or recording a myriad of projects including his critically acclaimed 2010 bluegrass album Homecoming\, and his recent Roots And Boots acoustic tour with fellow hitmakers Sammy Kershaw and Aaron Tippin\, Diffie confirms he's having the time of his life: I'm having so much fun with it all. I can't wait to see what the future brings! And neither can country music fans all over the world.
X-ALT-DESC;FMTTYPE=text/html:With chart-toppers like Pickup Man\, Third Rock From the Sun\, and John Deere Green\, and 13 albums and over 20 Top 10 singles to his credit\, Joe Diffie has yet to quench the desire to make good country music. A renowned songwriter in his own right who recently turned his focus back to writing after years on the road\, Joe has written hits for artists like Tim McGraw\, Conway Twitty\, Jo Dee Messina and many more. Whether it&#39\;s writing\, touring or recording a myriad of projects including his critically acclaimed 2010 bluegrass album Homecoming\, and his recent Roots And Boots acoustic tour with fellow hitmakers Sammy Kershaw and Aaron Tippin\, Diffie confirms he&#39\;s having the time of his life: I&#39\;m having so much fun with it all. I can&#39\;t wait to see what the future brings! And neither can country music fans all over the world.
LOCATION:Smoky Mountain Center for the Performing Arts 1028 Georgia Road Franklin\, NC 28734
UID:e.256.37636
SEQUENCE:3
DTSTAMP:20260423T211549Z
URL:https://members.visitblairsvillega.com/events/details/joe-diffie-03-21-2015-37636
END:VEVENT

END:VCALENDAR
