BEGIN:VCALENDAR
VERSION:2.0
PRODID:-//ChamberMaster//Event Calendar 2.0//EN
METHOD:PUBLISH
X-PUBLISHED-TTL:P3D
REFRESH-INTERVAL:P3D
CALSCALE:GREGORIAN
BEGIN:VEVENT
DTSTART:20141213T003000Z
DTEND:20141213T020000Z
X-MICROSOFT-CDO-ALLDAYEVENT:FALSE
SUMMARY:John Berry
DESCRIPTION:Mention his name to just about any country music lover and the response will likely be\, "What an awesome vocalist!" Between 1979 and 1990 John recorded and marketed six albums on his own Clear Sky Records label. Those early discs and John Berry's strong regional popularity attracted him attention on Music Row. Capitol Records signed him in 1992 and it was there that he had a string of hits\, including "Your Love Amazes Me"\, "Standing on the Edge of Goodbye"\, "I Think About It All The Time"\, "Change My Mind"\, "If I Had Any Pride Left At All"\, "Kiss Me In The Car"\, 'What's In It For Me"\, and "You and Only You".
X-ALT-DESC;FMTTYPE=text/html:Mention his name to just about any country music lover and the response will likely be\, &quot\;What an awesome vocalist!&quot\; Between 1979 and 1990 John recorded and marketed six albums on his own Clear Sky Records label. Those early discs and John Berry&#39\;s strong regional popularity attracted him attention on Music Row. Capitol Records signed him in 1992 and it was there that he had a string of hits\, including &quot\;Your Love Amazes Me&quot\;\, &quot\;Standing on the Edge of Goodbye&quot\;\, &quot\;I Think About It All The Time&quot\;\, &quot\;Change My Mind&quot\;\, &quot\;If I Had Any Pride Left At All&quot\;\, &quot\;Kiss Me In The Car&quot\;\, &#39\;What&#39\;s In It For Me&quot\;\, and &quot\;You and Only You&quot\;.
LOCATION:Smoky Mountain Center for the Performing Arts 1028 Georgia Road Franklin\, NC 28734\,
UID:e.256.27843
SEQUENCE:3
DTSTAMP:20260424T015948Z
URL:https://members.visitblairsvillega.com/events/details/john-berry-12-12-2014-27843
END:VEVENT

END:VCALENDAR
