BEGIN:VCALENDAR
VERSION:2.0
PRODID:-//ChamberMaster//Event Calendar 2.0//EN
METHOD:PUBLISH
X-PUBLISHED-TTL:P3D
REFRESH-INTERVAL:P3D
CALSCALE:GREGORIAN
BEGIN:VEVENT
DTSTART:20141207T150000Z
DTEND:20141207T220000Z
X-MICROSOFT-CDO-ALLDAYEVENT:FALSE
SUMMARY:John C Campbell Fireside Sale 2014
DESCRIPTION:John C Campbell Fireside Sale 2014\nEnjoy the ambiance of live holiday music and a crackling fire as you shop for artful treasures in our beautifully decorated Keith House and visit the artists in Davidson Hall (next to the Craft Shop). Craftspeople will offer handmade items such as jewelry\, weaving\, forged iron\, photography\, quilts and turned wood. You're sure to find special\, one-of-a-kind holiday gifts here!\n\n\n\nAlso\, our Craft Shop will be offering 15% off during the Fireside Sale. The 15% off sale will last from November 28 to December 24. Shop for handmade gifts made by local and regional artists in a variety of media including jewelry\, fiber\, wood items\, forged metal\, pottery\, and more.
X-ALT-DESC;FMTTYPE=text/html:John C Campbell Fireside Sale 2014\n<p class="cde_text">Enjoy the ambiance of live holiday music and a crackling fire as you shop for artful treasures in our beautifully decorated Keith House and visit the artists in Davidson Hall (next to the Craft Shop). Craftspeople will offer handmade items such as jewelry\, weaving\, forged iron\, photography\, quilts and turned wood. You&#39\;re sure to find special\, one-of-a-kind holiday gifts here!<br />\n<br />\nAlso\, our Craft Shop will be offering 15% off during the <a href="https://www.folkschool.org/event.php?event_type_id=15&amp\;event_id=13" target="_blank"><font color="#0066cc">Fireside Sale</font></a>. The 15% off sale will last from November 28 to December 24. Shop for handmade gifts made by local and regional artists in a variety of media including jewelry\, fiber\, wood items\, forged metal\, pottery\, and more.<br />\n&nbsp\;</p>\n
LOCATION:John C Campbell Folk School - Keith House and Davidson Hall One Folk School Road Brasstown\, NC
UID:e.256.27288
SEQUENCE:3
DTSTAMP:20260424T020301Z
URL:https://members.visitblairsvillega.com/events/details/john-c-campbell-fireside-sale-2014-12-07-2014-27288
END:VEVENT

END:VCALENDAR
