BEGIN:VCALENDAR
VERSION:2.0
PRODID:-//ChamberMaster//Event Calendar 2.0//EN
METHOD:PUBLISH
X-PUBLISHED-TTL:P3D
REFRESH-INTERVAL:P3D
CALSCALE:GREGORIAN
BEGIN:VEVENT
DTSTART:20150530T210000Z
DTEND:20150531T000000Z
X-MICROSOFT-CDO-ALLDAYEVENT:FALSE
SUMMARY:John C. Campbell Folk School Gala & Benefit Auction
DESCRIPTION:Help support the Folk School's programs by purchasing fine craft as well as other unique items donated by Folk School artists. Join in the spirited bidding led by Bob Grove and Tim Ryan. Enjoy delicious food\, drinks\, live music\, and the company of fellow Folk School students and friends. Tickets $20 in advance. $25 at the door. Includes admission\, heavy hors d'oeuvres\, and two drink tickets. For photos and a listing of artists\, visit folkschool.org/auction
X-ALT-DESC;FMTTYPE=text/html:Help support the Folk School&#39\;s programs by purchasing fine craft as well as other unique items donated by Folk School artists. Join in the spirited bidding led by Bob Grove and Tim Ryan. Enjoy delicious food\, drinks\, live music\, and the company of fellow Folk School students and friends. Tickets $20 in advance. $25 at the door. Includes admission\, heavy hors d&#39\;oeuvres\, and two drink tickets. For photos and a listing of artists\, visit folkschool.org/auction
LOCATION:John C. Campbell Folk School One Folk School Road Brasstown\, NC 28902
UID:e.256.40205
SEQUENCE:3
DTSTAMP:20260423T182606Z
URL:https://members.visitblairsvillega.com/events/details/john-c-campbell-folk-school-gala-benefit-auction-05-30-2015-40205
END:VEVENT

END:VCALENDAR
