BEGIN:VCALENDAR
VERSION:2.0
PRODID:-//ChamberMaster//Event Calendar 2.0//EN
METHOD:PUBLISH
X-PUBLISHED-TTL:P3D
REFRESH-INTERVAL:P3D
CALSCALE:GREGORIAN
BEGIN:VEVENT
DTSTART:20140628T210000Z
DTEND:20140628T210000Z
X-MICROSOFT-CDO-ALLDAYEVENT:FALSE
SUMMARY:John C Campbell Folk School Gala & Benefit Auction
DESCRIPTION:John C Campbell Folk School Gala & Benefit Auction\n\nJune 28\, 2014 at 5pm\n\nKeith House Community Room\n\n\n\nCome support your favorite school while bidding on fine craft made by Folk School artists. A silent auction precedes the live auction. Tickets are $20 in advance or $25 at the door\, and include admission\, hors d' oeuvres\, and two drink tickets. They can be purchased at the Craft Shop or at folkschool.org/auction.
X-ALT-DESC;FMTTYPE=text/html:John C Campbell Folk School Gala &amp\; Benefit Auction<br />\nJune 28\, 2014 at 5pm<br />\nKeith House Community Room<br />\n<br />\nCome support your favorite school while bidding on fine craft made by Folk School artists.&nbsp\;A silent auction precedes the live auction. Tickets are $20 in advance or $25 at the door\, and include admission\, hors d&#39\; oeuvres\, and two drink tickets. They can be purchased at the Craft Shop or at folkschool.org/auction.
LOCATION:John C Campbell Folk School Keith House Community Room Brasstown\, NC
UID:e.256.24594
SEQUENCE:3
DTSTAMP:20260424T120622Z
URL:https://members.visitblairsvillega.com/events/details/john-c-campbell-folk-school-gala-benefit-auction-06-28-2014-24594
END:VEVENT

END:VCALENDAR
