BEGIN:VCALENDAR
VERSION:2.0
PRODID:-//ChamberMaster//Event Calendar 2.0//EN
METHOD:PUBLISH
X-PUBLISHED-TTL:P3D
REFRESH-INTERVAL:P3D
CALSCALE:GREGORIAN
BEGIN:VEVENT
DTSTART:20171216T000000Z
DTEND:20171216T033000Z
X-MICROSOFT-CDO-ALLDAYEVENT:FALSE
SUMMARY:John Denver Christmas Show - featuring Chris Collins and Boulder Canyon
DESCRIPTION:Just in time for Christmas - The John Denver Christmas Show featuring Chris Collins and Boulder Canyon\, enjoy the concerts and Mountain Country Christmas in Lights at the Georgia Mountain Fairgrounds in Hiawassee.
X-ALT-DESC;FMTTYPE=text/html:Just in time for Christmas - The John Denver Christmas Show featuring Chris Collins and Boulder Canyon\, enjoy the concerts and Mountain Country Christmas in Lights at the Georgia Mountain Fairgrounds in Hiawassee.
LOCATION:Georgia Mountain Fairgrounds 1311 Music Hall Road - Hwy 76 West Hiawassee\, GA 30546
UID:e.256.76176
SEQUENCE:3
DTSTAMP:20260419T121611Z
URL:https://members.visitblairsvillega.com/events/details/john-denver-christmas-show-featuring-chris-collins-and-boulder-canyon-76176
END:VEVENT

END:VCALENDAR
