BEGIN:VCALENDAR
VERSION:2.0
PRODID:-//ChamberMaster//Event Calendar 2.0//EN
METHOD:PUBLISH
X-PUBLISHED-TTL:P3D
REFRESH-INTERVAL:P3D
CALSCALE:GREGORIAN
BEGIN:VEVENT
DTSTART:20160603T233000Z
DTEND:20160604T013000Z
X-MICROSOFT-CDO-ALLDAYEVENT:FALSE
SUMMARY:Johnny Rivers
DESCRIPTION:Date: June 3\, 2016 Show Time: 7:30pm Ticket Prices: $25\, $30\, $35 In 1964\, when the British Invasion was in progress and American rockers were tough to find on the U.S. pop charts\, Johnny Rivers was one of the first to regain a foothold. His formula was much the same as the British style vintage American rock n' roll and R&B played with a verve and simplicity that gave his music a contemporary edge. With such hits as "Maybelline\," "Rainy Night In Georgia" and the award-winning "Secret Agent Man\," Rivers has never desire to retire from recording or leave the thrill of the road. He's toured consistently and enjoys popularity all over the world with his one-of-a-kind musical stylings and genuine rock/ blues sound.
X-ALT-DESC;FMTTYPE=text/html:Date: June 3\, 2016 Show Time: 7:30pm Ticket Prices: $25\, $30\, $35 In 1964\, when the British Invasion was in progress and American rockers were tough to find on the U.S. pop charts\, Johnny Rivers was one of the first to regain a foothold. His formula was much the same as the British style vintage American rock n&#39\; roll and R&amp\;B played with a verve and simplicity that gave his music a contemporary edge. With such hits as &quot\;Maybelline\,&quot\; &quot\;Rainy Night In Georgia&quot\; and the award-winning &quot\;Secret Agent Man\,&quot\; Rivers has never desire to retire from recording or leave the thrill of the road. He&#39\;s toured consistently and enjoys popularity all over the world with his one-of-a-kind musical stylings and genuine rock/ blues sound.
LOCATION:Smoky Mountain Center for the Performing Arts 1028 Georgia Road Franklin\, NC 28734
UID:e.256.48265
SEQUENCE:3
DTSTAMP:20260420T202504Z
URL:https://members.visitblairsvillega.com/events/details/johnny-rivers-06-03-2016-48265
END:VEVENT

END:VCALENDAR
