BEGIN:VCALENDAR
VERSION:2.0
PRODID:-//ChamberMaster//Event Calendar 2.0//EN
METHOD:PUBLISH
X-PUBLISHED-TTL:P3D
REFRESH-INTERVAL:P3D
CALSCALE:GREGORIAN
BEGIN:VEVENT
DTSTART:20140511T170000Z
DTEND:20140511T173000Z
X-MICROSOFT-CDO-ALLDAYEVENT:FALSE
SUMMARY:Join Union County Interagency Group - Standing Women
DESCRIPTION:Sunday May 11\, 2014 will mark our 8th year of standing together for the sake of earth's children on what is Mother's Day in many countries! Join the Union County Interagency Group at 1 pm at the Union County Courthouse to stand for a brief prayer for our nation. It is no small thing that we are doing\, for in these critical chaotic times\, we must take every opportunity to join our intentions for a better world.\n\n http://www.standingwomen.net
X-ALT-DESC;FMTTYPE=text/html:Sunday May 11\, 2014 will mark our 8th year of standing together for the sake of earth&#39\;s children on what is Mother&#39\;s Day in many countries! Join the Union County Interagency Group at 1 pm at the Union County Courthouse to stand&nbsp\;for a brief prayer for our nation. It is no small thing that we are doing\, for in these critical chaotic times\, we must take every opportunity to join our intentions for a better world.<br />\n&nbsp\;http://www.standingwomen.net
LOCATION:Union County Courthouse Steps 65 Courthouse Street Blairsville\, GA
UID:e.256.24152
SEQUENCE:3
DTSTAMP:20260424T122313Z
URL:https://members.visitblairsvillega.com/events/details/join-union-county-interagency-group-standing-women-05-11-2014-24152
END:VEVENT

END:VCALENDAR
