BEGIN:VCALENDAR
VERSION:2.0
PRODID:-//ChamberMaster//Event Calendar 2.0//EN
METHOD:PUBLISH
X-PUBLISHED-TTL:P3D
REFRESH-INTERVAL:P3D
CALSCALE:GREGORIAN
BEGIN:VEVENT
DTSTART:20140730T230000Z
DTEND:20140731T010000Z
X-MICROSOFT-CDO-ALLDAYEVENT:FALSE
SUMMARY:Josh McDowell - Save Our Children\, Save Our World!
DESCRIPTION:Noted speaker\, author and Christian humanitarian Josh McDowell has impacted the lives of millions of people during his more than 50 years of outreach. Josh has one central message: "We must learn a way to disciple children!" Don't miss noted speaker and author Josh McDowell during this free event: Save Our Children\, Save Our World. It will change your life and the life of your church.
X-ALT-DESC;FMTTYPE=text/html:Noted speaker\, author and Christian humanitarian Josh McDowell has impacted the lives of millions of people during his more than 50 years of outreach. Josh has one central message: &quot\;We must learn a way to disciple children!&quot\; Don&#39\;t miss noted speaker and author Josh McDowell during this free event: Save Our Children\, Save Our World. It will change your life and the life of your church.
LOCATION:Smoky Mountain Center for the Performing Arts 1028 Georgia Road Franklin\, NC 28734
UID:e.256.24745
SEQUENCE:3
DTSTAMP:20260424T091952Z
URL:https://members.visitblairsvillega.com/events/details/josh-mcdowell-save-our-children-save-our-world-07-30-2014-24745
END:VEVENT

END:VCALENDAR
