BEGIN:VCALENDAR
VERSION:2.0
PRODID:-//ChamberMaster//Event Calendar 2.0//EN
METHOD:PUBLISH
X-PUBLISHED-TTL:P3D
REFRESH-INTERVAL:P3D
CALSCALE:GREGORIAN
BEGIN:VEVENT
DTSTART:20151023T233000Z
DTEND:20151024T023000Z
X-MICROSOFT-CDO-ALLDAYEVENT:FALSE
SUMMARY:Josh Turner
DESCRIPTION:As a family man\, a philanthropist\, a devoted Christian\, and a passionate sports fan\, you might say Josh Turner's commitments run as deep as his voice. Of course\, he's also a double-platinum-selling singer\, songwriter and disciple of traditional country music\, a mentor to up-and-coming artists and one of the youngest members of the Grand Ole Opry. All of those layers construct Josh's knockout style of bluegrass-influenced barnburners\, lonesome laments\, and the slow and steady love ballads on which Josh's trademark baritone excels. With such number one hits as "Why Don't We Just Dance" and "All Over Me\," Josh's range exhibits\, in both his voice and his songwriting\, creative maturity well beyond that of a young\, country boy telling stories through his music\, lyrics and performance.
X-ALT-DESC;FMTTYPE=text/html:As a family man\, a philanthropist\, a devoted Christian\, and a passionate sports fan\, you might say Josh Turner&#39\;s commitments run as deep as his voice. Of course\, he&#39\;s also a double-platinum-selling singer\, songwriter and disciple of traditional country music\, a mentor to up-and-coming artists and one of the youngest members of the Grand Ole Opry. All of those layers construct Josh&#39\;s knockout style of bluegrass-influenced barnburners\, lonesome laments\, and the slow and steady love ballads on which Josh&#39\;s trademark baritone excels. With such number one hits as &quot\;Why Don&#39\;t We Just Dance&quot\; and &quot\;All Over Me\,&quot\; Josh&#39\;s range exhibits\, in both his voice and his songwriting\, creative maturity well beyond that of a young\, country boy telling stories through his music\, lyrics and performance.
LOCATION:Smoky Mountain Center for the Performing Arts 1028 Georgia Road Franklin\, NC 28734
UID:e.256.41398
SEQUENCE:3
DTSTAMP:20260423T102440Z
URL:https://members.visitblairsvillega.com/events/details/josh-turner-10-23-2015-41398
END:VEVENT

END:VCALENDAR
