BEGIN:VCALENDAR
VERSION:2.0
PRODID:-//ChamberMaster//Event Calendar 2.0//EN
METHOD:PUBLISH
X-PUBLISHED-TTL:P3D
REFRESH-INTERVAL:P3D
CALSCALE:GREGORIAN
BEGIN:VEVENT
DTSTART:20151212T190000Z
DTEND:20151212T200000Z
X-MICROSOFT-CDO-ALLDAYEVENT:FALSE
SUMMARY:Juicing Demo
DESCRIPTION:On Saturday Dec. 12th\, there will be a FREE 60 min Juicing Demo at the Mountain Yoga and Massage Studio.\n\n\n\nDina Varlamova\, a Holistic Health & Wellness Coach with Green Healing Beauty\, will be doing a presentation on the benefits of Juicing.\n\n\n\nJuicing has many amazing health benefits that can help you lose weight and reverse an illness. Juicing nourishes your body while helping it detox from harmful chemicals. It's a simple way to consume enormous amounts of fruits and veggies.\n\n\n\nThere will be time for Q & A afterwards. Everybody's welcome to come so bring a friend. RSVP today!\n\n\n\nTime: 2 PM\, Dec.12th\n\nLocation: 98 Cleveland St\, Blairsville\n\nCost: FREE!
X-ALT-DESC;FMTTYPE=text/html:On Saturday Dec. 12th\, there will be a FREE 60 min Juicing Demo at the Mountain Yoga and Massage Studio.<br />\n<br />\nDina Varlamova\, a Holistic Health &amp\; Wellness Coach with Green Healing Beauty\, will be doing a presentation on the benefits of Juicing.<br />\n<br />\nJuicing has many amazing health benefits that can help you lose weight and reverse an illness. Juicing nourishes your body while helping it detox from harmful chemicals. It&rsquo\;s a simple way to consume enormous amounts of fruits and veggies.<br />\n<br />\nThere will be time for Q &amp\; A afterwards. Everybody&rsquo\;s welcome to come so bring a friend. RSVP today!<br />\n<br />\nTime: 2 PM\, Dec.12th<br />\nLocation: 98 Cleveland St\, Blairsville<br />\nCost: FREE!
LOCATION:Mountain Yoga Studio 98 Cleveland St. Blairsville
UID:e.256.45164
SEQUENCE:3
DTSTAMP:20260421T073849Z
URL:https://members.visitblairsvillega.com/events/details/juicing-demo-12-12-2015-45164
END:VEVENT

END:VCALENDAR
