BEGIN:VCALENDAR
VERSION:2.0
PRODID:-//ChamberMaster//Event Calendar 2.0//EN
METHOD:PUBLISH
X-PUBLISHED-TTL:P3D
REFRESH-INTERVAL:P3D
CALSCALE:GREGORIAN
BEGIN:VEVENT
DTSTART:20150704T223000Z
DTEND:20150705T013000Z
X-MICROSOFT-CDO-ALLDAYEVENT:FALSE
SUMMARY:July 4 Celebration BBQ & Fireworks!
DESCRIPTION:Live music\, kids activities\, & BBQ. Enjoy Chamber of Commerce's fireworks show from the best seats in Union county! BBQ by award winning The Pig Lebowski $5 per basket. Tricycle/bicycle decorating & parade. Free activities for children including ice cream sundae bar. Colonial presentations by DAR &SAR. Everyone invited! Bring chairs. No fireworks\, please.
X-ALT-DESC;FMTTYPE=text/html:Live music\, kids activities\, &amp\; BBQ. Enjoy Chamber of Commerce&#39\;s fireworks show from the best seats in Union county! BBQ by award winning The Pig Lebowski $5 per basket. Tricycle/bicycle decorating &amp\; parade. Free activities for children including ice cream sundae bar. Colonial presentations by DAR &amp\;SAR. Everyone invited! Bring chairs. No fireworks\, please.
LOCATION:First United Methodist Church of Union County on HWY 515 in Blairsville across from Meeks Park.
UID:e.256.40370
SEQUENCE:3
DTSTAMP:20260423T151216Z
URL:https://members.visitblairsvillega.com/events/details/july-4-celebration-bbq-fireworks-07-04-2015-40370
END:VEVENT

END:VCALENDAR
