BEGIN:VCALENDAR
VERSION:2.0
PRODID:-//ChamberMaster//Event Calendar 2.0//EN
METHOD:PUBLISH
X-PUBLISHED-TTL:P3D
REFRESH-INTERVAL:P3D
CALSCALE:GREGORIAN
BEGIN:VEVENT
DTSTART:20140704T223000Z
DTEND:20140705T013500Z
X-MICROSOFT-CDO-ALLDAYEVENT:FALSE
SUMMARY:July 4th Cookout & Fireworks
DESCRIPTION:Annual July 4th Cookout & Fireworks show at Brasstown Valley Resort Young Harris. The cookout will feature a all you can eat buffet\, there will be family fun activities\, Music and at dark a Fireworks show. Reservations for the cookout are needed and can be made by calling 706-379-4617
X-ALT-DESC;FMTTYPE=text/html:Annual July 4th Cookout &amp\; Fireworks show at Brasstown Valley Resort Young Harris. The cookout will feature a all you can eat buffet\, there will be family fun activities\, Music and at dark a Fireworks show. Reservations for the cookout are needed and can be made by calling 706-379-4617
LOCATION:Brasstown Valley Resort\, The Sunset Pavilion
UID:e.256.24575
SEQUENCE:3
DTSTAMP:20260424T104121Z
URL:https://members.visitblairsvillega.com/events/details/july-4th-cookout-fireworks-07-04-2014-24575
END:VEVENT

END:VCALENDAR
