BEGIN:VCALENDAR
VERSION:2.0
PRODID:-//ChamberMaster//Event Calendar 2.0//EN
METHOD:PUBLISH
X-PUBLISHED-TTL:P3D
REFRESH-INTERVAL:P3D
CALSCALE:GREGORIAN
BEGIN:VEVENT
DTSTART:20150704T230000Z
DTEND:20150705T013000Z
X-MICROSOFT-CDO-ALLDAYEVENT:FALSE
SUMMARY:July 4th Cookout & Fireworks Show
DESCRIPTION:Brasstown Valley Resort annual Star Spangled Spectacular. Saturday July 4th located at the Sunset Pavilion. The event features an all you can eat buffet of Summer Cook Out favorites. Family activities\, Bounce House\, Face Painting\, Horseshoes\, Pie Eating contest. The Sunset pavilion also provides you with a perfect view of our Independence Day Fireworks Show that will begin at dark. Great Food\, family fun\, fireworks Visit our web site at www.brasstownvalley.com for more information and to view a copy of the menu. Reservations are recommended and can be made by calling 706-379-4617
X-ALT-DESC;FMTTYPE=text/html:Brasstown Valley Resort annual Star Spangled Spectacular. Saturday July 4th located at the Sunset Pavilion. The event features an all you can eat buffet of Summer Cook Out favorites. Family activities\, Bounce House\, Face Painting\, Horseshoes\, Pie Eating contest. The Sunset pavilion also provides you with a perfect view of our Independence Day Fireworks Show that will begin at dark. Great Food\, family fun\, fireworks Visit our web site at www.brasstownvalley.com for more information and to view a copy of the menu. Reservations are recommended and can be made by calling 706-379-4617
LOCATION:Brasstown Valley Resort \, Young Harris GA
UID:e.256.40218
SEQUENCE:3
DTSTAMP:20260423T151153Z
URL:https://members.visitblairsvillega.com/events/details/july-4th-cookout-fireworks-show-07-04-2015-40218
END:VEVENT

END:VCALENDAR
