BEGIN:VCALENDAR
VERSION:2.0
PRODID:-//ChamberMaster//Event Calendar 2.0//EN
METHOD:PUBLISH
X-PUBLISHED-TTL:P3D
REFRESH-INTERVAL:P3D
CALSCALE:GREGORIAN
BEGIN:VEVENT
DTSTART:20160727T170000Z
DTEND:20160727T190000Z
X-MICROSOFT-CDO-ALLDAYEVENT:FALSE
SUMMARY:July Children's Classes at ArtWorks
DESCRIPTION:Children's art classes at ArtWorks store in Hiawassee (Note age limits.) July 1: Art Flags July 4 and 11: Beginning Sewing (tote bag) for ages 8+ (1:00 - 3:30 p.m.) July 5: Build Your Own Village July 6: Learn Embroidery for ages 6-9 July 7: Make Your Own Jewelry July 8: Acrylic Painting on Canvas July 13: Embroidery (Journal cover) for ages 10+ July 14: Mixed Media Fairy Painting July 15: Zentangle Art July 18: Kumihimo Bracelet July 20: It's Painting Cats and Dogs July 21 and 28: Collage Art July 22: Watercolor Flower Painting July 27: Let's Paint Life at the Pond
X-ALT-DESC;FMTTYPE=text/html:Children's art classes at ArtWorks store in Hiawassee (Note age limits.) July 1: Art Flags July 4 and 11: Beginning Sewing (tote bag) for ages 8+ (1:00 - 3:30 p.m.) July 5: Build Your Own Village July 6: Learn Embroidery for ages 6-9 July 7: Make Your Own Jewelry July 8: Acrylic Painting on Canvas July 13: Embroidery (Journal cover) for ages 10+ July 14: Mixed Media Fairy Painting July 15: Zentangle Art July 18: Kumihimo Bracelet July 20: It's Painting Cats and Dogs July 21 and 28: Collage Art July 22: Watercolor Flower Painting July 27: Let's Paint Life at the Pond
LOCATION:ArtWorks 232B Chatuge Way Hiawassee\, GA Behind Dairy Queen
UID:e.256.53011
SEQUENCE:3
DTSTAMP:20260420T184009Z
URL:https://members.visitblairsvillega.com/events/details/july-children-s-classes-at-artworks-07-27-2016-53011
END:VEVENT

END:VCALENDAR
