BEGIN:VCALENDAR
VERSION:2.0
PRODID:-//ChamberMaster//Event Calendar 2.0//EN
METHOD:PUBLISH
X-PUBLISHED-TTL:P3D
REFRESH-INTERVAL:P3D
CALSCALE:GREGORIAN
BEGIN:VEVENT
DTSTART:20150717T230000Z
DTEND:20150718T010000Z
X-MICROSOFT-CDO-ALLDAYEVENT:FALSE
SUMMARY:Just Us at John C. Campbell Folk School
DESCRIPTION:Just Us - traditional\, contemporary & gospel bluegrass music
X-ALT-DESC;FMTTYPE=text/html:<div>Just Us - traditional\, contemporary &amp\; gospel bluegrass music</div>\n
LOCATION:Community Room at John C. Campbell Folk School Brasstown\, NC 28902
UID:e.256.40224
SEQUENCE:3
DTSTAMP:20260423T151257Z
URL:https://members.visitblairsvillega.com/events/details/just-us-at-john-c-campbell-folk-school-07-17-2015-40224
END:VEVENT

END:VCALENDAR
