BEGIN:VCALENDAR
VERSION:2.0
PRODID:-//ChamberMaster//Event Calendar 2.0//EN
METHOD:PUBLISH
X-PUBLISHED-TTL:P3D
REFRESH-INTERVAL:P3D
CALSCALE:GREGORIAN
BEGIN:VEVENT
DTSTART:20150116T000000Z
DTEND:20150116T020000Z
X-MICROSOFT-CDO-ALLDAYEVENT:FALSE
SUMMARY:Karen Mueller at John C. Campbell Folk School
DESCRIPTION:Karen Mueller - one of today's top autoharp and mountain dulcimer players
X-ALT-DESC;FMTTYPE=text/html:<div>Karen Mueller - one of today&#39\;s top autoharp and mountain dulcimer players</div>\n
LOCATION:Community Room at John C. Campbell Folk School Brasstown\, NC 28902
UID:e.256.33608
SEQUENCE:3
DTSTAMP:20260424T003556Z
URL:https://members.visitblairsvillega.com/events/details/karen-mueller-at-john-c-campbell-folk-school-01-15-2015-33608
END:VEVENT

END:VCALENDAR
