BEGIN:VCALENDAR
VERSION:2.0
PRODID:-//ChamberMaster//Event Calendar 2.0//EN
METHOD:PUBLISH
X-PUBLISHED-TTL:P3D
REFRESH-INTERVAL:P3D
CALSCALE:GREGORIAN
BEGIN:VEVENT
DTSTART:20150610T150000Z
DTEND:20150610T180000Z
X-MICROSOFT-CDO-ALLDAYEVENT:FALSE
SUMMARY:Kaye's Auto Parts Rock N Roll Trailer Tool Sale
DESCRIPTION:Kaye's Auto Parts in Blairsville invites you to join us on Wednesday\, June 10 to see our Rock N Roll Trailer\, an 18 Wheeler full of tools! \n\n\n\nAlso on site will be the Chip Foose NAPA Overhaulin' Truck and the OCC NAPA Chopper.\n\n\n\nLunch will be served from 11am to 2pm.\n\n\n\nJoin us for Big Savings!  Prices will be good until June 30\, 2015.
X-ALT-DESC;FMTTYPE=text/html:Kaye&#39\;s Auto Parts in Blairsville invites you to join us on Wednesday\, June 10 to see our&nbsp\;Rock N Roll Trailer\, an 18 Wheeler full of tools!&nbsp\;<br />\n<br />\nAlso on site will be the Chip Foose NAPA Overhaulin&#39\; Truck and the OCC NAPA Chopper.<br />\n<br />\nLunch will be served from 11am to 2pm.<br />\n<br />\nJoin us for Big Savings!&nbsp\; Prices will be good until June 30\, 2015.<br />\n<br />\n&nbsp\;
LOCATION:Kaye's Auto Parts 141 Young Harris Street Blairsville\, GA 30512
UID:e.256.40352
SEQUENCE:3
DTSTAMP:20260423T182701Z
URL:https://members.visitblairsvillega.com/events/details/kaye-s-auto-parts-rock-n-roll-trailer-tool-sale-06-10-2015-40352
END:VEVENT

END:VCALENDAR
