BEGIN:VCALENDAR
VERSION:2.0
PRODID:-//ChamberMaster//Event Calendar 2.0//EN
METHOD:PUBLISH
X-PUBLISHED-TTL:P3D
REFRESH-INTERVAL:P3D
CALSCALE:GREGORIAN
BEGIN:VEVENT
DTSTART:20170221T213000Z
DTEND:20170222T003000Z
X-MICROSOFT-CDO-ALLDAYEVENT:FALSE
SUMMARY:"Keep Calm & Have a Girl's Night Out"!
DESCRIPTION:*Ready for a break? This evening is set aside to celebrate with local women entrepreneurs - Origami Owl\, Jerae's Unity Alpacas\, Tastefully Simple\, Dixie Confexions\, Mary Kay Cosmetics...  Fun product giveaways & special savings!
X-ALT-DESC;FMTTYPE=text/html:*Ready for a break? This evening is set aside to celebrate with <strong>local women entrepreneurs </strong>- Origami Owl\, Jerae&#39\;s Unity Alpacas\, Tastefully Simple\, Dixie Confexions\, Mary Kay Cosmetics...&nbsp\; <strong>Fun product giveaways &amp\; special savings</strong>!
LOCATION:Rustic Mountain Decor 294 Hwy. 515 - Suite A Blairsville\, GA 30512
UID:e.256.65478
SEQUENCE:3
DTSTAMP:20260420T055957Z
URL:https://members.visitblairsvillega.com/events/details/keep-calm-have-a-girl-s-night-out-65478
END:VEVENT

END:VCALENDAR
