BEGIN:VCALENDAR
VERSION:2.0
PRODID:-//ChamberMaster//Event Calendar 2.0//EN
METHOD:PUBLISH
X-PUBLISHED-TTL:P3D
REFRESH-INTERVAL:P3D
CALSCALE:GREGORIAN
BEGIN:VEVENT
DTSTART:20150619T230000Z
DTEND:20150620T010000Z
X-MICROSOFT-CDO-ALLDAYEVENT:FALSE
SUMMARY:Kelley Family at John C. Campbell Folk School
DESCRIPTION:Kelley Family- up-and-coming sibling bluegrass band play tunes and harmonize
X-ALT-DESC;FMTTYPE=text/html:<div>Kelley Family- up-and-coming sibling bluegrass band play tunes and harmonize</div>\n
LOCATION:Community Room at John C. Campbell Folk School Brasstown\, NC 28902
UID:e.256.40221
SEQUENCE:3
DTSTAMP:20260423T165912Z
URL:https://members.visitblairsvillega.com/events/details/kelley-family-at-john-c-campbell-folk-school-06-19-2015-40221
END:VEVENT

END:VCALENDAR
