BEGIN:VCALENDAR
VERSION:2.0
PRODID:-//ChamberMaster//Event Calendar 2.0//EN
METHOD:PUBLISH
X-PUBLISHED-TTL:P3D
REFRESH-INTERVAL:P3D
CALSCALE:GREGORIAN
BEGIN:VEVENT
DTSTART:20140424T233000Z
DTEND:20140425T020000Z
X-MICROSOFT-CDO-ALLDAYEVENT:FALSE
SUMMARY:Kevin Costner & Modern West
DESCRIPTION:According to Kevin Costner\, Modern West got its start when his wife encouraged him to reconnect musically with John Coinman. "I wasn't really sure after all these years how it might work. I wasn't really sure what to say. But if life has taught me anything it was not be stopped by the question or the unknown. I asked John to get some guys together starting with Blair Forward who was in the first and only band I was ever in. John would pick the rest."
X-ALT-DESC;FMTTYPE=text/html:According to Kevin Costner\, Modern West got its start when his wife encouraged him to reconnect musically with John Coinman. &quot\;I wasn&#39\;t really sure after all these years how it might work. I wasn&#39\;t really sure what to say. But if life has taught me anything it was not be stopped by the question or the unknown. I asked John to get some guys together starting with Blair Forward who was in the first and only band I was ever in. John would pick the rest.&quot\;
LOCATION:Smoky Mountain Center for the Performing Arts 1028 Georgia Road Franklin\, NC 28734
UID:e.256.24226
SEQUENCE:3
DTSTAMP:20260424T133427Z
URL:https://members.visitblairsvillega.com/events/details/kevin-costner-modern-west-04-24-2014-24226
END:VEVENT

END:VCALENDAR
