BEGIN:VCALENDAR
VERSION:2.0
PRODID:-//ChamberMaster//Event Calendar 2.0//EN
METHOD:PUBLISH
X-PUBLISHED-TTL:P3D
REFRESH-INTERVAL:P3D
CALSCALE:GREGORIAN
BEGIN:VEVENT
DTSTART:20140301T130000Z
DTEND:20140301T130000Z
X-MICROSOFT-CDO-ALLDAYEVENT:FALSE
SUMMARY:Kick off Party at The Mountain Crossings at Walasi-Yi
DESCRIPTION:All day family fun event at Mountain Crossings at Walasi-yi on March 1st\, 2014. There will be the Barker Brothers bluegrass band playing live\, a group hike\, a s'mores station\, several hiking/backpacking tutorials\, lots of raffles and door prizes and so much more. Come help celebrate the new ownership and and the kick off to the Appalachian Trail thru hiking season! It's going to be fun y'all. \n\nHike for Habitat\n\nThe hike starts at 8am on Blood Mountain. Call George at Mountain Crossings 706-745-6095 or email at george@mountaincrossings.com to register. Suggested donation of $20. (100% proceeds to Habitat for Humanity) Hike followed by Kick Off Party at Mountain Crossings!\n\n\n\nRaffle tickets are also available for $5 (cash or check). No need to be present to win.
X-ALT-DESC;FMTTYPE=text/html:All day family fun event at Mountain Crossings at Walasi-yi on March 1st\, 2014. There will be the Barker Brothers bluegrass band playing live\, a group hike\, a s&#39\;mores station\, several hiking/backpacking tutorials\, lots of raffles and door prizes and so much more. Come help celebrate the new ownership and and the kick off to the Appalachian Trail thru hiking season! It&#39\;s going to be fun y&#39\;all.&nbsp\;<br />\nHike for Habitat<br />\nThe hike starts at 8am on Blood Mountain. Call George at Mountain Crossings 706-745-6095 or email at george@mountaincrossings.com to register. Suggested donation of $20. (100% proceeds to Habitat for Humanity) Hike followed by Kick Off Party at Mountain Crossings!<br />\n<br />\nRaffle tickets are also available for $5 (cash or check). No need to be present to win.
LOCATION:Mountain Crossings at Walasi-yi 12471 Gainesville Hwy Blairsville\, GA 30512
UID:e.256.22881
SEQUENCE:3
DTSTAMP:20260424T153410Z
URL:https://members.visitblairsvillega.com/events/details/kick-off-party-at-the-mountain-crossings-at-walasi-yi-03-01-2014-22881
END:VEVENT

END:VCALENDAR
