BEGIN:VCALENDAR
VERSION:2.0
PRODID:-//ChamberMaster//Event Calendar 2.0//EN
METHOD:PUBLISH
X-PUBLISHED-TTL:P3D
REFRESH-INTERVAL:P3D
CALSCALE:GREGORIAN
BEGIN:VEVENT
DTSTART:20140617T193000Z
DTEND:20140617T203000Z
X-MICROSOFT-CDO-ALLDAYEVENT:FALSE
SUMMARY:Kids Art
DESCRIPTION:Kids Art\n\nAll supplies included\, just bring your playful and creative side\, and a friend! This class is meant to be as much fun as instructional and you're encouraged to wear play clothes!
X-ALT-DESC;FMTTYPE=text/html:<span style="font-family:calibri\,sans-serif\;"><span style="font-size:11.0pt\;">Kids Art<br />\nAll supplies included\, just bring your playful and creative side\, and a friend! This class is meant to be as much fun as instructional and you&#39\;re encouraged to wear play clothes!</span></span>
LOCATION:Inspire Art Studio 51 Earnest St. Suite C
UID:e.256.24779
SEQUENCE:3
DTSTAMP:20260424T104906Z
URL:https://members.visitblairsvillega.com/events/details/kids-art-06-17-2014-24779
END:VEVENT

END:VCALENDAR
