BEGIN:VCALENDAR
VERSION:2.0
PRODID:-//ChamberMaster//Event Calendar 2.0//EN
METHOD:PUBLISH
X-PUBLISHED-TTL:P3D
REFRESH-INTERVAL:P3D
CALSCALE:GREGORIAN
BEGIN:VEVENT
DTSTART:20140204T210000Z
DTEND:20140205T030000Z
X-MICROSOFT-CDO-ALLDAYEVENT:FALSE
SUMMARY:Kids Night at Waffle House
DESCRIPTION:Waffle House is pleased to announce "Kids Night" every Tuesday in February from 4:00pm until 10:00 pm.  Kids enjoy a free meal from the kids menu with the purchase of a drink.  Bring the family in for a night of fun!!!
X-ALT-DESC;FMTTYPE=text/html:Waffle House is&nbsp\;pleased to announce&nbsp\;&quot\;Kids Night&quot\; every Tuesday in February&nbsp\;from 4:00pm until 10:00 pm.&nbsp\; Kids enjoy a free meal from the kids menu with the purchase of a drink.&nbsp\; Bring the family in for a night of fun!!!
LOCATION:Waffle House 10 Hwy 515 Blairsville Ga.
UID:e.256.22935
SEQUENCE:3
DTSTAMP:20260424T165144Z
URL:https://members.visitblairsvillega.com/events/details/kids-night-at-waffle-house-02-04-2014-22935
END:VEVENT

END:VCALENDAR
