BEGIN:VCALENDAR
VERSION:2.0
PRODID:-//ChamberMaster//Event Calendar 2.0//EN
METHOD:PUBLISH
X-PUBLISHED-TTL:P3D
REFRESH-INTERVAL:P3D
CALSCALE:GREGORIAN
BEGIN:VEVENT
DTSTART:20140930T193000Z
DTEND:20140930T203000Z
X-MICROSOFT-CDO-ALLDAYEVENT:FALSE
SUMMARY:Kidzart Club
DESCRIPTION:An after school exciting art club that includes all art supplies. If your kids are ages 6-10\, they will make new friends and develop their individual style and creative side.
X-ALT-DESC;FMTTYPE=text/html:An after school exciting art club that includes all art supplies. If your kids are ages 6-10\, they will make new friends and develop their individual style and creative side.
LOCATION:Inspire Art Studio 51 Earnest St. Blairsville
UID:e.256.25483
SEQUENCE:3
DTSTAMP:20260424T073904Z
URL:https://members.visitblairsvillega.com/events/details/kidzart-club-09-30-2014-25483
END:VEVENT

END:VCALENDAR
