BEGIN:VCALENDAR
VERSION:2.0
PRODID:-//ChamberMaster//Event Calendar 2.0//EN
METHOD:PUBLISH
X-PUBLISHED-TTL:P3D
REFRESH-INTERVAL:P3D
CALSCALE:GREGORIAN
BEGIN:VEVENT
DTSTART:20141211T150000Z
DTEND:20141212T010000Z
X-MICROSOFT-CDO-ALLDAYEVENT:FALSE
SUMMARY:Knitter's Knitch 1st Anniversary 4 - Day Celebration Event
DESCRIPTION:A 4 - Day Celebration Event!!\n\nDecember 10 -13\, 2014\n\nKnitter's Knitch is celebrating its 1st Anniversary and we want to celebrate it with YOU!\n\n\n\n25% - 50% Off Yarn\n\nDaily Giveaways from leading vendors\n\n\n\nCome on by and have a piece of cake.
X-ALT-DESC;FMTTYPE=text/html:A 4 - Day Celebration Event!!<br />\nDecember 10 -13\, 2014<br />\nKnitter&#39\;s Knitch is celebrating its 1st Anniversary and we want to celebrate it with YOU!<br />\n<br />\n25% - 50% Off Yarn<br />\nDaily Giveaways from leading vendors<br />\n<br />\nCome on by and have a piece of cake.
LOCATION:Knitter's Knitch 64 Bracketts Way Ste. 6 Blairsville\, GA
UID:e.256.28093
SEQUENCE:3
DTSTAMP:20260424T033847Z
URL:https://members.visitblairsvillega.com/events/details/knitter-s-knitch-1st-anniversary-4-day-celebration-event-12-11-2014-28093
END:VEVENT

END:VCALENDAR
