BEGIN:VCALENDAR
VERSION:2.0
PRODID:-//ChamberMaster//Event Calendar 2.0//EN
METHOD:PUBLISH
X-PUBLISHED-TTL:P3D
REFRESH-INTERVAL:P3D
CALSCALE:GREGORIAN
BEGIN:VEVENT
DTSTART:20160315T140000Z
DTEND:20160315T160000Z
X-MICROSOFT-CDO-ALLDAYEVENT:FALSE
SUMMARY:Knitter's Knitch Crochet Class
DESCRIPTION:Crochet Class @ Knitter's Knitch by appointment ONLY so please call ahead (706) 835-1078 .
X-ALT-DESC;FMTTYPE=text/html:Crochet Class @ Knitter&#39\;s Knitch by appointment ONLY so please call ahead (706) 835-1078 .
LOCATION:Knitter's Knitch 64 Bracketts Way Ste. 6 Blairsville\, Ga
UID:e.256.45538
SEQUENCE:3
DTSTAMP:20260421T021826Z
URL:https://members.visitblairsvillega.com/events/details/knitter-s-knitch-crochet-class-03-15-2016-45538
END:VEVENT

END:VCALENDAR
