BEGIN:VCALENDAR
VERSION:2.0
PRODID:-//ChamberMaster//Event Calendar 2.0//EN
METHOD:PUBLISH
X-PUBLISHED-TTL:P3D
REFRESH-INTERVAL:P3D
CALSCALE:GREGORIAN
BEGIN:VEVENT
DTSTART:20140830T140000Z
DTEND:20140830T200000Z
X-MICROSOFT-CDO-ALLDAYEVENT:FALSE
SUMMARY:Knitter's Knitch Sale - Andrea's 29th Birthday Bash!!
DESCRIPTION:Knitter's Knitch Sale - Andrea's 29th Birthday Bash!!\n\nFriday\, August 29th & Saturday\, August 30th 10am - 4pm\n\nCome celebrate Andrea's birthday with us!! Have some birthday cake and join in the fun! Receive 29% off all of your yarn purchases during our birthday celebration.\n\nhttp://www.knittersknitch.com
X-ALT-DESC;FMTTYPE=text/html:Knitter&#39\;s Knitch Sale - Andrea&#39\;s 29th Birthday Bash!!<br />\nFriday\, August 29th &amp\; Saturday\, August 30th&nbsp\;10am - 4pm<br />\nCome celebrate Andrea&#39\;s birthday with us!! Have some birthday cake and join in the fun! Receive 29% off all of your yarn purchases during our birthday celebration.<br />\n<strong>http://www.knittersknitch.com</strong>
LOCATION:Knitter's Knitch 64 Brackett's Way\, Ste.6 Blairsville
UID:e.256.26196
SEQUENCE:3
DTSTAMP:20260424T073931Z
URL:https://members.visitblairsvillega.com/events/details/knitter-s-knitch-sale-andrea-s-29th-birthday-bash-08-30-2014-26196
END:VEVENT

END:VCALENDAR
