BEGIN:VCALENDAR
VERSION:2.0
PRODID:-//ChamberMaster//Event Calendar 2.0//EN
METHOD:PUBLISH
X-PUBLISHED-TTL:P3D
REFRESH-INTERVAL:P3D
CALSCALE:GREGORIAN
BEGIN:VEVENT
DTSTART:20141205T210000Z
DTEND:20141206T010000Z
X-MICROSOFT-CDO-ALLDAYEVENT:FALSE
SUMMARY:Kris Kringle Mountain Market
DESCRIPTION:Kris Kringle Mountain Market \n\nUnion County Farmers Market\n\nCome shop at this fun\, 2-day European style holiday market\, where 75+ vendors will share their produce\, artisan crafts and wonderful\, edible treats. On Friday night\, Santa will greet the children plus you'll enjoy live music\, tasty treats and a bonfire with free s'mores.\n\nOn Saturday\, children can take a free ride around the market on the holiday mini train.
X-ALT-DESC;FMTTYPE=text/html:<p style="text-align: center\;"><span style="color: rgb(255\, 0\, 0)\;"><strong><span style="font-family: comic sans ms\;"><em><strong><span style="font-style: normal\;"><span style="font-size: 10pt\;"><span style="font-family: comic sans ms\;">Kris Kringle Mountain Market&nbsp\;<br />\nUnion County Farmers Market</span></span></span></strong></em></span></strong></span></p>\n\n<p><strong><span style="font-family: comic sans ms\;">Come shop at this fun\, 2-day European style holiday market\, where 75+ vendors will share their produce\, artisan crafts and wonderful\, edible treats. On Friday night\, Santa will greet the children plus you&#39\;ll enjoy live music\, tasty treats and a bonfire with free s&#39\;mores.<br />\nOn Saturday\, children can take a free ride around the market on the holiday mini train. </span></strong></p>\n
LOCATION:Union County Farmer's Market 148 Old Smokey Road (off Weaver Road) Blairsville\, GA
UID:e.256.22037
SEQUENCE:3
DTSTAMP:20260424T020304Z
URL:https://members.visitblairsvillega.com/events/details/kris-kringle-mountain-market-12-05-2014-22037
END:VEVENT

END:VCALENDAR
