BEGIN:VCALENDAR
VERSION:2.0
PRODID:-//ChamberMaster//Event Calendar 2.0//EN
METHOD:PUBLISH
X-PUBLISHED-TTL:P3D
REFRESH-INTERVAL:P3D
CALSCALE:GREGORIAN
BEGIN:VEVENT
DTSTART:20131207T150000Z
DTEND:20131207T200000Z
X-MICROSOFT-CDO-ALLDAYEVENT:FALSE
SUMMARY:Kris Kringle Mountain Market
DESCRIPTION:Kris Kringle Mountain Market \n\n	Union County Farmers Market\n\n	Enjoy a visit to the European Outdoor Holiday Market right here in the North Georgia Mountains! \n\n	 \n\n	\n		Music \n	\n		Children's Area\n	\n		More than 60 Vendors with Produce Crafts\n	\n		Art\, Handmade Gifts & Delicious Food Creations\n	\n		Roast Chestnuts\n	\n		Sing Carols\n	\n		Sit on Santa's Lap\n	\n		Warm up by a Bonfire with S'mores
X-ALT-DESC;FMTTYPE=text/html:<p style="text-align: center\;">\n	<span style="color: rgb(255\, 0\, 0)\;"><span style="font-size: 14px\;"><strong><span style="font-family: comic sans ms\;"><em><strong><span style="font-style: normal\;"><span style="font-family: comic sans ms\;">Kris Kringle Mountain Market&nbsp\;<br />\n	Union County Farmers Market</span></span></strong></em></span></strong></span></span></p>\n<p>\n	<strong><span style="font-family: comic sans ms\;"><span style="font-size: 10pt\;"><span style="font-family: comic sans ms\;">Enjoy a visit to the European Outdoor Holiday Market right here in the North Georgia Mountains! </span></span></span></strong><br />\n	&nbsp\;</p>\n<ul>\n	<li>\n		<strong><span style="font-family: comic sans ms\;"><span style="font-size: 10pt\;"><span style="font-family: comic sans ms\;">Music </span></span></span></strong></li>\n	<li>\n		<strong><span style="font-family: comic sans ms\;"><span style="font-size: 10pt\;"><span style="font-family: comic sans ms\;">Children&#39\;s Area</span></span></span></strong></li>\n	<li>\n		<strong><span style="font-family: comic sans ms\;">More than 60 Vendors with Produce Crafts</span></strong></li>\n	<li>\n		<strong><span style="font-family: comic sans ms\;">Art</span></strong><strong><span style="font-family: comic sans ms\;">\, Handmade Gifts &amp\; Delicious Food Creations</span></strong></li>\n	<li>\n		<strong><span style="font-family: comic sans ms\;">Roast Chestnuts</span></strong></li>\n	<li>\n		<strong><span style="font-family: comic sans ms\;">Sing Carols</span></strong></li>\n	<li>\n		<strong><span style="font-family: comic sans ms\;">Sit on Santa&#39\;s Lap</span></strong></li>\n	<li>\n		<strong><span style="font-family: comic sans ms\;">Warm up by a Bonfire with S&#39\;mores</span></strong></li>\n</ul>\n
LOCATION:Union County Farmer's Market 148 Old Smokey Road (off Weaver Road) Blairsville\, GA
UID:e.256.20447
SEQUENCE:3
DTSTAMP:20260424T194327Z
URL:https://members.visitblairsvillega.com/events/details/kris-kringle-mountain-market-12-07-2013-20447
END:VEVENT

END:VCALENDAR
