BEGIN:VCALENDAR
VERSION:2.0
PRODID:-//ChamberMaster//Event Calendar 2.0//EN
METHOD:PUBLISH
X-PUBLISHED-TTL:P3D
REFRESH-INTERVAL:P3D
CALSCALE:GREGORIAN
BEGIN:VEVENT
DTSTART:20251206T150000Z
DTEND:20251206T190000Z
X-MICROSOFT-CDO-ALLDAYEVENT:FALSE
SUMMARY:Kris Kringle Mountain Market
DESCRIPTION:The Union County Farmers Market's annual Kris Kringle Market will be held on Dec 6\, 2025. Shop at over 100 local vendors selling produce\, plants\, honey\, meats & cheeses\, baked goods\, and unique handmade gifts for everyone on your Christmas list!
X-ALT-DESC;FMTTYPE=text/html:The Union County Farmers Market&#39\;s annual Kris Kringle Market will be held on Dec 6\, 2025. Shop at over 100 local vendors selling produce\, plants\, honey\, meats &amp\; cheeses\, baked goods\, and unique handmade gifts for everyone on your Christmas list!
LOCATION:290 Farmers Market Way Blairsville GA 30512
UID:e.256.139646
SEQUENCE:3
DTSTAMP:20260422T175845Z
URL:https://members.visitblairsvillega.com/events/details/kris-kringle-mountain-market-139646
END:VEVENT

END:VCALENDAR
