BEGIN:VCALENDAR
VERSION:2.0
PRODID:-//ChamberMaster//Event Calendar 2.0//EN
METHOD:PUBLISH
X-PUBLISHED-TTL:P3D
REFRESH-INTERVAL:P3D
CALSCALE:GREGORIAN
BEGIN:VEVENT
DTSTART:20171202T150000Z
DTEND:20171202T200000Z
X-MICROSOFT-CDO-ALLDAYEVENT:FALSE
SUMMARY:Kris Kringle Mountain Market
DESCRIPTION:Enjoy over 75 vendors\, handcrafted items by local artisans\, produce\, plants\, baked goods and more!  Kids can visit with Santa and ride the Christmas Train.  Free Entertainment.
X-ALT-DESC;FMTTYPE=text/html:Enjoy over 75 vendors\, handcrafted items by local artisans\, produce\, plants\, baked goods and more!&nbsp\; Kids can visit with Santa and ride the Christmas Train.&nbsp\; Free Entertainment.
LOCATION:Union County Farmers Market 148 Old Smokey Rd Blairsville\, GA
UID:e.256.76161
SEQUENCE:3
DTSTAMP:20260419T121039Z
URL:https://members.visitblairsvillega.com/events/details/kris-kringle-mountain-market-76161
END:VEVENT

END:VCALENDAR
