BEGIN:VCALENDAR
VERSION:2.0
PRODID:-//ChamberMaster//Event Calendar 2.0//EN
METHOD:PUBLISH
X-PUBLISHED-TTL:P3D
REFRESH-INTERVAL:P3D
CALSCALE:GREGORIAN
BEGIN:VEVENT
DTSTART:20140802T233000Z
DTEND:20140803T020000Z
X-MICROSOFT-CDO-ALLDAYEVENT:FALSE
SUMMARY:Krista Detor in Concert
DESCRIPTION:Krista Detor takes the Blue Ridge stage on Saturday\, August 2.  Detor's solo albums have reached national and international prominence\, including number one on the Euro-Americana Chart\, and placement within the top 10 of the U.S. Folk and Independent Music charts. She has performed with such notable artists as Suzanne Vega\, Joan Armatrading\, The Neville Brothers\, Louden Wainwright\, Sam Phillips\, and John Gorka. Detor continues to tour the U.S.\, Canada and Northern Europe\, as a songwriter and performer. See www.kristadetor.net for more information.   Live Music Is Better concert series is sponsored by the Blue Ridge Community Theater\, Inc. a 501- (c) 3 volunteer based non-profit corporation committed to bringing excellent performing arts entertainment to the North Georgia communities. For more information about Main Stage productions\, Sunny D Children's Theater or the music concert series go to www.BlueRidgeCommunityTheater.com.
X-ALT-DESC;FMTTYPE=text/html:&nbsp\;Krista Detor takes the Blue Ridge stage on Saturday\, August 2.&nbsp\;&nbsp\;Detor&#39\;s solo albums have reached national and international prominence\, including number one on the Euro-Americana Chart\, and placement within the top 10 of the U.S. Folk and Independent Music charts. She has performed with such notable artists as Suzanne Vega\, Joan Armatrading\, The Neville Brothers\, Louden Wainwright\, Sam Phillips\, and John Gorka. Detor continues to tour the U.S.\, Canada and Northern Europe\, as a songwriter and performer. See www.kristadetor.net for more information.&nbsp\; &nbsp\;Live Music Is Better concert series is sponsored by the Blue Ridge Community Theater\, Inc. a 501- (c) 3 volunteer based non-profit corporation committed to bringing excellent performing arts entertainment to the North Georgia communities. For more information about Main Stage productions\, Sunny D Children&#39\;s Theater or the music concert series go to www.BlueRidgeCommunityTheater.com. &nbsp\;&nbsp\; 
LOCATION:Blue Ridge Community Theater 2591 East First Street Blue Ridge\, GA
UID:e.256.23654
SEQUENCE:3
DTSTAMP:20260424T073907Z
URL:https://members.visitblairsvillega.com/events/details/krista-detor-in-concert-08-02-2014-23654
END:VEVENT

END:VCALENDAR
