BEGIN:VCALENDAR
VERSION:2.0
PRODID:-//ChamberMaster//Event Calendar 2.0//EN
METHOD:PUBLISH
X-PUBLISHED-TTL:P3D
REFRESH-INTERVAL:P3D
CALSCALE:GREGORIAN
BEGIN:VEVENT
DTSTART:20140830T120000Z
DTEND:20140830T200000Z
X-MICROSOFT-CDO-ALLDAYEVENT:FALSE
SUMMARY:Labor Day Sale at Black & White Antiques!
DESCRIPTION:Black & White Antiques will be having our *1st Annual Labor Day Yard Sale* this Saturday\, August the 30th starting at 8AM. We will have multiple Dealers set up in our parking lot selling all sorts of stuff! At yard sale prices!!!\n\nSee you there\, and be sure to stop in the Store as well and check out all our new stuff with everyday great prices!!
X-ALT-DESC;FMTTYPE=text/html:Black &amp\; White Antiques will be having our *1st Annual Labor Day Yard Sale* this Saturday\, August the 30th starting at 8AM. We will have multiple Dealers set up in our parking lot selling all sorts of stuff! At yard sale prices!!!<br />\nSee you there\, and be sure to stop in the Store as well and check out all our new stuff with everyday great prices!!
LOCATION:
UID:e.256.27290
SEQUENCE:3
DTSTAMP:20260424T073929Z
URL:https://members.visitblairsvillega.com/events/details/labor-day-sale-at-black-white-antiques-08-30-2014-27290
END:VEVENT

END:VCALENDAR
