BEGIN:VCALENDAR
VERSION:2.0
PRODID:-//ChamberMaster//Event Calendar 2.0//EN
METHOD:PUBLISH
X-PUBLISHED-TTL:P3D
REFRESH-INTERVAL:P3D
CALSCALE:GREGORIAN
BEGIN:VEVENT
DTSTART;VALUE=DATE:20140831
DTEND;VALUE=DATE:20140901
TRANSP:TRANSPARENT
X-MICROSOFT-CDO-ALLDAYEVENT:TRUE
SUMMARY:Labor Day Sale at Nelson's ACE Hardware
DESCRIPTION:Labor Day Sale plus extra bonuses for ACE Rewards Customers
X-ALT-DESC;FMTTYPE=text/html:Labor Day Sale plus extra bonuses for ACE Rewards Customers
LOCATION:
UID:e.256.24888
SEQUENCE:3
DTSTAMP:20260424T073948Z
URL:https://members.visitblairsvillega.com/events/details/labor-day-sale-at-nelson-s-ace-hardware-08-31-2014-24888
END:VEVENT

END:VCALENDAR
