BEGIN:VCALENDAR
VERSION:2.0
PRODID:-//ChamberMaster//Event Calendar 2.0//EN
METHOD:PUBLISH
X-PUBLISHED-TTL:P3D
REFRESH-INTERVAL:P3D
CALSCALE:GREGORIAN
BEGIN:VEVENT
DTSTART;VALUE=DATE:20140830
DTEND;VALUE=DATE:20140902
TRANSP:TRANSPARENT
X-MICROSOFT-CDO-ALLDAYEVENT:TRUE
SUMMARY:Labor Day Weekend Sale - Hi Country Shops
DESCRIPTION:Labor Day Weekend Sale\n\n  \n\nJoin us Saturday\, Sunday & Monday for our Labor Day Sale.\n\nAugust 30\, 31\, and September 1\n\n\n\nSherry O -      In stock Quilt Sets -Extra 15% Off\n\n                       Quilted Throws - $20.00 Off\n\n                       Select Decor - 10-15% Off\n\n                       Select Bella Taylor Bags -15% Off\n\n\n\nGail's Gifts -   Free Farm House Fresh Samples for the first 10 customers\n\n                       Jilzara Earrings - 15% Off\n\n                       Milkhouse Candles -10% Off\n\n                       Bible Covers - $5.00 Off\n\n\n\nOther Vendors - 10% Off\n\n\n\nHours - Saturday 10:00am - 5:00pm\, Sunday 1:00pm - 3:00pm and Monday 10:00am - 2:00pm\n\n \n\nHi Country Shops\n\n3347 Hwy 515 E\n\nBlairsville\, GA 30512\n\nSherry Owenby & Gail Tipton
X-ALT-DESC;FMTTYPE=text/html:<p align="center" style="margin: 0in 0in 0pt\; text-align: center\;"><strong><span lang="EN" style="color: rgb(34\, 34\, 34)\; font-size: 12pt\; mso-ansi-language: EN\;"><font face="Calibri">Labor Day Weekend Sale</font></span></strong><br />\n<b><span lang="EN" style="color: rgb(34\, 34\, 34)\; font-family: &quot\;Times New Roman&quot\;\,&quot\;serif&quot\;\; font-size: 12pt\; mso-ansi-language: EN\;"><strong>&nbsp\; </strong><br />\n<strong>Join us Saturday\, Sunday &amp\; Monday for our Labor Day Sale.</strong><br />\nAugust 30\, 31\, and September 1</span></b><br />\n<br />\n<span lang="EN" style="color: rgb(34\, 34\, 34)\; font-family: &quot\;Times New Roman&quot\;\,&quot\;serif&quot\;\; font-size: 12pt\; mso-ansi-language: EN\;"><b style="mso-bidi-font-weight: normal\;">Sherry O</b> -&nbsp\;&nbsp\;&nbsp\;&nbsp\; &nbsp\;In stock Quilt Sets -Extra 15% Off<br />\n&nbsp\;&nbsp\;&nbsp\;&nbsp\;&nbsp\;&nbsp\;&nbsp\;&nbsp\;&nbsp\;&nbsp\;&nbsp\;&nbsp\;&nbsp\;&nbsp\;&nbsp\;&nbsp\;&nbsp\;&nbsp\;&nbsp\;&nbsp\;&nbsp\;&nbsp\; Quilted Throws - $20.00 Off<br />\n&nbsp\;&nbsp\;&nbsp\;&nbsp\;&nbsp\;&nbsp\;&nbsp\;&nbsp\;&nbsp\;&nbsp\;&nbsp\;&nbsp\;&nbsp\;&nbsp\;&nbsp\;&nbsp\;&nbsp\;&nbsp\;&nbsp\;&nbsp\;&nbsp\;&nbsp\; Select Decor&nbsp\;- 10-15% Off<br />\n&nbsp\;&nbsp\;&nbsp\;&nbsp\;&nbsp\;&nbsp\;&nbsp\;&nbsp\;&nbsp\;&nbsp\;&nbsp\;&nbsp\;&nbsp\;&nbsp\;&nbsp\;&nbsp\;&nbsp\;&nbsp\;&nbsp\;&nbsp\;&nbsp\;&nbsp\; Select Bella Taylor Bags -15% Off</span></p>\n\n<p align="center" style="margin: 0in 0in 0pt\; text-align: center\;"><br />\n<span lang="EN" style="color: rgb(34\, 34\, 34)\; font-family: &quot\;Times New Roman&quot\;\,&quot\;serif&quot\;\; font-size: 12pt\; mso-ansi-language: EN\;"><b style="mso-bidi-font-weight: normal\;">Gail&#39\;s Gifts</b> -&nbsp\;&nbsp\; Free Farm House Fresh Samples for the first 10 customers<br />\n&nbsp\;&nbsp\;&nbsp\;&nbsp\;&nbsp\;&nbsp\;&nbsp\;&nbsp\;&nbsp\;&nbsp\;&nbsp\;&nbsp\;&nbsp\;&nbsp\;&nbsp\;&nbsp\;&nbsp\;&nbsp\;&nbsp\;&nbsp\;&nbsp\;&nbsp\; Jilzara Earrings - 15% Off<br />\n&nbsp\;&nbsp\;&nbsp\;&nbsp\;&nbsp\;&nbsp\;&nbsp\;&nbsp\;&nbsp\;&nbsp\;&nbsp\;&nbsp\;&nbsp\;&nbsp\;&nbsp\;&nbsp\;&nbsp\;&nbsp\;&nbsp\;&nbsp\;&nbsp\;&nbsp\; Milkhouse Candles -10% Off<br />\n&nbsp\;&nbsp\;&nbsp\;&nbsp\;&nbsp\;&nbsp\;&nbsp\;&nbsp\;&nbsp\;&nbsp\;&nbsp\;&nbsp\;&nbsp\;&nbsp\;&nbsp\;&nbsp\;&nbsp\;&nbsp\;&nbsp\;&nbsp\;&nbsp\;&nbsp\; Bible Covers - $5.00 Off<br />\n<br />\n<b style="mso-bidi-font-weight: normal\;">Other Vendors - 10% Off</b></span></p>\n\n<p align="center" style="margin: 0in 0in 0pt\; text-align: center\;"><br />\n<span lang="EN" style="color: rgb(34\, 34\, 34)\; font-family: &quot\;Times New Roman&quot\;\,&quot\;serif&quot\;\; font-size: 12pt\; mso-ansi-language: EN\;"><b style="mso-bidi-font-weight: normal\;">Hours - Saturday 10:00am - 5:00pm\, Sunday 1:00pm - 3:00pm and Monday 10:00am - 2:00pm</b></span><br style="mso-special-character: line-break\;" />\n&nbsp\;</p>\n\n<p align="center" style="margin: 0in 0in 0pt\; text-align: center\;"><span style="font-family: &quot\;Times New Roman&quot\;\,&quot\;serif&quot\;\; font-size: 12pt\; mso-bidi-font-size: 11.0pt\; mso-bidi-font-family: &quot\;Times New Roman&quot\;\; mso-bidi-theme-font: minor-bidi\;"><font color="#000000">Hi Country Shops</font></span></p>\n\n<p align="center" style="margin: 0in 0in 0pt\; text-align: center\;"><span style="font-family: &quot\;Times New Roman&quot\;\,&quot\;serif&quot\;\; font-size: 12pt\; mso-bidi-font-size: 11.0pt\; mso-bidi-font-family: &quot\;Times New Roman&quot\;\; mso-bidi-theme-font: minor-bidi\;"><font color="#000000">3347 Hwy 515 E</font></span></p>\n\n<p align="center" style="margin: 0in 0in 0pt\; text-align: center\;"><span style="font-family: &quot\;Times New Roman&quot\;\,&quot\;serif&quot\;\; font-size: 12pt\; mso-bidi-font-size: 11.0pt\; mso-bidi-font-family: &quot\;Times New Roman&quot\;\; mso-bidi-theme-font: minor-bidi\;"><font color="#000000">Blairsville\, GA 30512</font></span></p>\n\n<p align="center" style="margin: 0in 0in 0pt\; text-align: center\;"><a name="_MailAutoSig"><span style="font-family: &quot\;Times New Roman&quot\;\,&quot\;serif&quot\;\; font-size: 12pt\; mso-fareast-font-family: &quot\;Times New Roman&quot\;\; mso-fareast-theme-font: minor-fareast\; mso-no-proof: yes\;"><font color="#000000">Sherry Owenby &amp\; Gail Tipton</font></span></a></p>\n
LOCATION:Hi Country Shops 3347 Hwy 515 E Blairsville\, GA 30512
UID:e.256.26275
SEQUENCE:3
DTSTAMP:20260424T063316Z
URL:https://members.visitblairsvillega.com/events/details/labor-day-weekend-sale-hi-country-shops-08-30-2014-26275
END:VEVENT

END:VCALENDAR
