BEGIN:VCALENDAR
VERSION:2.0
PRODID:-//ChamberMaster//Event Calendar 2.0//EN
METHOD:PUBLISH
X-PUBLISHED-TTL:P3D
REFRESH-INTERVAL:P3D
CALSCALE:GREGORIAN
BEGIN:VEVENT
DTSTART:20170817T123000Z
DTEND:20170817T173000Z
X-MICROSOFT-CDO-ALLDAYEVENT:FALSE
SUMMARY:Ladies 18-Hole Golf League
DESCRIPTION:The Butternut Creek Ladies Golf League welcomes ladies to a fun and competitive 18-hole league. A GHIN index is required\, however\, ladies with no handicap may join and play some events while establishing an index. For a small entry fee each week\, we offer fun golf games each week along with payouts for eagles\, birdies and chip-ins.
X-ALT-DESC;FMTTYPE=text/html:The Butternut Creek Ladies Golf League welcomes ladies to a fun and competitive 18-hole league. A GHIN index is required\, however\, ladies with no handicap may join and play some events while establishing an index. For a small entry fee each week\, we offer fun golf games each week along with payouts for eagles\, birdies and chip-ins.
LOCATION:Butternut Creek Golf Course\, 129 Union County Rec Road\, Blairsville\, GA
UID:e.256.75261
SEQUENCE:3
DTSTAMP:20260419T210756Z
URL:https://members.visitblairsvillega.com/events/details/ladies-18-hole-golf-league-08-17-2017-75261
END:VEVENT

END:VCALENDAR
