BEGIN:VCALENDAR
VERSION:2.0
PRODID:-//ChamberMaster//Event Calendar 2.0//EN
METHOD:PUBLISH
X-PUBLISHED-TTL:P3D
REFRESH-INTERVAL:P3D
CALSCALE:GREGORIAN
BEGIN:VEVENT
DTSTART:20170914T120000Z
DTEND:20170914T183000Z
X-MICROSOFT-CDO-ALLDAYEVENT:FALSE
SUMMARY:Ladies Annual Golf Invitational
DESCRIPTION:BUTTERNUT CREEK LADIES GOLF LEAGUE ANNUAL LADIES INVITATIONAL The ladies will be "Rocking & Rolling" on September 14\, 2017 at Butternut Creek Golf Course Dress in your best 50's outfit and start practicing for the hula hoop contest!! Registration & Breakfast 8 am & Shotgun Start 9 am Format 4 Person Team (you may build your own team) Best Ball Payouts For Gross (3 places) And Net (4 places) (Team Scores) Mulligan\, Magic Putt\, Sandie\, Ball Overboard And 1 Raffle Ticket (pp) $10.00 |Split The Pot (you can pay for your entry fee and mulligan package with your entry form $65.00) Cost $55.00 Per Player Includes Breakfast\, Lunch\, Gifts For All Particpants\, Prizes! Entry Deadline September 6\, 2017
X-ALT-DESC;FMTTYPE=text/html:BUTTERNUT CREEK LADIES GOLF LEAGUE ANNUAL LADIES INVITATIONAL The ladies will be &ldquo\;Rocking &amp\; Rolling&rdquo\; on September 14\, 2017 at Butternut Creek Golf Course Dress in your best 50&rsquo\;s outfit and start practicing for the hula hoop contest!! Registration &amp\; Breakfast 8 am &amp\; Shotgun Start 9 am Format 4 Person Team (you may build your own team) Best Ball Payouts For Gross (3 places) And Net (4 places) (Team Scores) Mulligan\, Magic Putt\, Sandie\, Ball Overboard And 1 Raffle Ticket (pp) $10.00 |Split The Pot (you can pay for your entry fee and mulligan package with your entry form $65.00) Cost $55.00 Per Player Includes Breakfast\, Lunch\, Gifts For All Particpants\, Prizes! Entry Deadline September 6\, 2017
LOCATION:Butternut Creek Golf Course 129 County Recreation Road Blairsville\, GA
UID:e.256.75350
SEQUENCE:3
DTSTAMP:20260419T175312Z
URL:https://members.visitblairsvillega.com/events/details/ladies-annual-golf-invitational-75350
END:VEVENT

END:VCALENDAR
