BEGIN:VCALENDAR
VERSION:2.0
PRODID:-//ChamberMaster//Event Calendar 2.0//EN
METHOD:PUBLISH
X-PUBLISHED-TTL:P3D
REFRESH-INTERVAL:P3D
CALSCALE:GREGORIAN
BEGIN:VEVENT
DTSTART:20170511T203000Z
DTEND:20170511T233000Z
X-MICROSOFT-CDO-ALLDAYEVENT:FALSE
SUMMARY:"Ladies Night Out!" Benefit Event @ Rustic Mountain Decor
DESCRIPTION:Join us for a fun evening out & get acquainted with local business women!\n\n Silent Auction proceeds will benefit the new Georgia Mountain Pregnancy Center..\n\n*Light Appetizers will be provided.
X-ALT-DESC;FMTTYPE=text/html:<span style="font-family:comic sans ms">Join us for a fun evening out &amp\; get acquainted with local business women!<br />\n&nbsp\;Silent Auction proceeds will benefit the new Georgia Mountain Pregnancy Center..<br />\n*Light Appetizers will be provided.</span>
LOCATION:Rustic Mountain Decor - 294 Hwy. 515 - Suite A\, Blairsville\, GA 30512
UID:e.256.71044
SEQUENCE:3
DTSTAMP:20260420T010126Z
URL:https://members.visitblairsvillega.com/events/details/ladies-night-out-benefit-event-rustic-mountain-decor-71044
END:VEVENT

END:VCALENDAR
