BEGIN:VCALENDAR
VERSION:2.0
PRODID:-//ChamberMaster//Event Calendar 2.0//EN
METHOD:PUBLISH
X-PUBLISHED-TTL:P3D
REFRESH-INTERVAL:P3D
CALSCALE:GREGORIAN
BEGIN:VEVENT
DTSTART:20160618T130000Z
DTEND:20160618T180000Z
X-MICROSOFT-CDO-ALLDAYEVENT:FALSE
SUMMARY:Lake Chatuge Animal Hospital Client Appreciation Open House
DESCRIPTION:We want to celebrate our 11th year anniversary by honoring you   our faithful clients   and your wonderful pets. We have been blessed to know and care for each one of you for the past 11 years plus.  Our open-house celebration in your honor will be June 18th.   Please join us for food \, fun\,  and family activities in addition to facility tours\, demonstrations and give-aways.  Our corporate sponsors are Merck Animal Health (maker of Bravecto   3 month flea & tick chew) and Zoetis (maker of ProHeart6   6-month injectable heartworm prevention).    Call us @ 706-896-1244 for more details and make plans to attend.  We look forward to seeing your smiling face at the celebration.
X-ALT-DESC;FMTTYPE=text/html:We want to celebrate our 11th year anniversary by honoring you &mdash\; our faithful clients &mdash\; and your wonderful pets. We have been blessed to know and care for each one of you for the past 11 years plus.&nbsp\; Our open-house celebration in your honor will be June 18<sup>th</sup>.&nbsp\;&nbsp\; Please join us for food \, fun\,&nbsp\; and family activities in addition to facility tours\, demonstrations and give-aways.&nbsp\; Our corporate sponsors are Merck Animal Health (maker of Bravecto &ndash\; 3 month flea &amp\; tick chew) and Zoetis (maker of ProHeart6 &ndash\; 6-month injectable heartworm prevention).&nbsp\; &nbsp\;&nbsp\;Call us @ 706-896-1244 for more details and make plans to attend.&nbsp\; We look forward to seeing your smiling face at the celebration.
LOCATION:1619 State Hwy 17 N. Young Harris\, GA
UID:e.256.52725
SEQUENCE:3
DTSTAMP:20260420T204642Z
URL:https://members.visitblairsvillega.com/events/details/lake-chatuge-animal-hospital-client-appreciation-open-house-06-18-2016-52725
END:VEVENT

END:VCALENDAR
