BEGIN:VCALENDAR
VERSION:2.0
PRODID:-//ChamberMaster//Event Calendar 2.0//EN
METHOD:PUBLISH
X-PUBLISHED-TTL:P3D
REFRESH-INTERVAL:P3D
CALSCALE:GREGORIAN
BEGIN:VEVENT
DTSTART:20150606T130000Z
DTEND:20150606T160000Z
X-MICROSOFT-CDO-ALLDAYEVENT:FALSE
SUMMARY:Lake Winfield Scott Kid's Fishing Rodeo
DESCRIPTION:Kids Fishing Rodeo\n\nSaturday\, June 6\, 2015 9am - 12noon\n\nFree event open to youth ages 16 and under. Bring your own fishing gear and bait. Free refreshments & prizes.
X-ALT-DESC;FMTTYPE=text/html:Kids Fishing Rodeo<br />\nSaturday\, June 6\, 2015 9am - 12noon<br />\nFree event open to youth ages 16 and under. Bring your own fishing gear and bait. Free refreshments &amp\; prizes.
LOCATION:Lake Winfield Scott: From Blairsville\, GA take U.S. 19/129 south for 10 miles\; turn right on GA Hwy. 180 for 7 miles.
UID:e.256.27593
SEQUENCE:3
DTSTAMP:20260423T165914Z
URL:https://members.visitblairsvillega.com/events/details/lake-winfield-scott-kid-s-fishing-rodeo-06-06-2015-27593
END:VEVENT

END:VCALENDAR
