BEGIN:VCALENDAR
VERSION:2.0
PRODID:-//ChamberMaster//Event Calendar 2.0//EN
METHOD:PUBLISH
X-PUBLISHED-TTL:P3D
REFRESH-INTERVAL:P3D
CALSCALE:GREGORIAN
BEGIN:VEVENT
DTSTART:20140502T190000Z
DTEND:20140502T220000Z
X-MICROSOFT-CDO-ALLDAYEVENT:FALSE
SUMMARY:Lance Investments First Friday Social
DESCRIPTION:The Lance Investments and Wealth Management team invites all clients and interested community members to stop their office for a fun\, casual gathering to celebrate warm weather and the end of tax season!\n\nDrinks and refreshments provided.
X-ALT-DESC;FMTTYPE=text/html:The Lance Investments and Wealth Management team invites all clients and interested community members to stop their office for a fun\, casual gathering to celebrate warm weather and the end of tax season!<br />\nDrinks and refreshments provided.
LOCATION:Chatuge Plaza 3280 NC Hwy 69 Hayesville\, NC 28904
UID:e.256.24249
SEQUENCE:3
DTSTAMP:20260424T133614Z
URL:https://members.visitblairsvillega.com/events/details/lance-investments-first-friday-social-05-02-2014-24249
END:VEVENT

END:VCALENDAR
