BEGIN:VCALENDAR
VERSION:2.0
PRODID:-//ChamberMaster//Event Calendar 2.0//EN
METHOD:PUBLISH
X-PUBLISHED-TTL:P3D
REFRESH-INTERVAL:P3D
CALSCALE:GREGORIAN
BEGIN:VEVENT
DTSTART:20150120T180000Z
DTEND:20150120T213000Z
X-MICROSOFT-CDO-ALLDAYEVENT:FALSE
SUMMARY:Landscapes in Acrylics for Beginners
DESCRIPTION:Landscapes in Acrylics for Beginners\n\nTuesday\, Jan. 20th\, from 1 - 4:30 pm.\n\nStudents will learn the basics of painting skies\, mountains\, foliage\, and water.\n\nClass size is limited to 6 for each workshop\, insuring individualized instruction.\n\nAll materials will be provided. Students will have the opportunity to learn the characteristics of both oil and acrylic paint by doing a small floral painting in each medium. Handouts on materials and tips for getting started with painting will be provided. This class sold out when first offered in November\, so call soon to reserve your place.The cost of each workshop is $35. Classes must be paid for when registering. In addition\, there will be a $5 materials fee for each workshop to be paid to the instructor on the day of the class.\n\nFor additional information and to sign up for either class please visit ArtWorks in Hiawassee or call the store at 706-769-0932 and register using a credit card.\n\nArtWorks is located at 232B Chatuge Way in the Hiawassee Business Centre\n\nOpen Monday through Saturday from 10 to 5.
X-ALT-DESC;FMTTYPE=text/html:<span style="font-family: arial\;">Landscapes in Acrylics for Beginners<br />\nTuesday\, Jan. 20th\, from 1&nbsp\;- 4:30 pm.<br />\nStudents will learn the basics of painting skies\, mountains\, foliage\, and water.</span>\n\n<p style="margin: 0in 0in 8pt\;"><span style="font-family: arial\;"><span style="color: black\;">Class size is limited to 6 for each workshop\, insuring individualized instruction.</span></span><br />\nAll materials will be provided. Students will have the opportunity to learn the characteristics of both oil and acrylic paint by doing a small floral painting in each medium. Handouts on materials and tips for getting started with painting will be provided. This class sold out when first offered in November\, so call soon to reserve your place.The cost of each workshop is $35. Classes must be paid for when registering. In addition\, there will be a $5 materials fee for each workshop to be paid to the instructor on the day of the class.<br />\nFor additional information and to sign up for either class please visit ArtWorks in Hiawassee or call the store at 706-769-0932 and register using a credit card.<br />\nArtWorks is located at 232B Chatuge Way in the Hiawassee Business Centre<br />\nOpen Monday through Saturday from 10 to 5.<br />\n&nbsp\;</p>\n\n<p style="margin: 0in 0in 8pt\;">&nbsp\;</p>\n
LOCATION:ArtWorks 232B Chatuge Way in the Hiawassee Business Centre
UID:e.256.28813
SEQUENCE:3
DTSTAMP:20260424T020312Z
URL:https://members.visitblairsvillega.com/events/details/landscapes-in-acrylics-for-beginners-01-20-2015-28813
END:VEVENT

END:VCALENDAR
