BEGIN:VCALENDAR
VERSION:2.0
PRODID:-//ChamberMaster//Event Calendar 2.0//EN
METHOD:PUBLISH
X-PUBLISHED-TTL:P3D
REFRESH-INTERVAL:P3D
CALSCALE:GREGORIAN
BEGIN:VEVENT
DTSTART:20160812T233000Z
DTEND:20160813T010000Z
X-MICROSOFT-CDO-ALLDAYEVENT:FALSE
SUMMARY:Larry Gatlin & the Gatlin Brothers
DESCRIPTION:Over 50 years ago\, Larry\, Steve\, and Rudy Gatlin started singing in their little hometown of Abilene\, Texas\, and from there went on to make music history. Over the course of a four-decade career that has taken the Gatlin Brothers from dusty Texas stages to White House performances\, from Broadway to Grammy Awards to the top of the country charts\, there has been one unifying element: music. There's no harmony quite as pure as family harmony. Country Capsule put it best\, "Gatlin harmonies spin with high and light precision and their music bleeds and screams of love and a lot of living." With over a dozen top 40 hits and influenced by faith\, family and their fans\, Larry\, Steve and Rudy will always be ready to "stand up and sing a tune any night."
X-ALT-DESC;FMTTYPE=text/html:Over 50 years ago\, Larry\, Steve\, and Rudy Gatlin started singing in their little hometown of Abilene\, Texas\, and from there went on to make music history. Over the course of a four-decade career that has taken the Gatlin Brothers from dusty Texas stages to White House performances\, from Broadway to Grammy Awards to the top of the country charts\, there has been one unifying element: music. There&#39\;s no harmony quite as pure as family harmony. Country Capsule put it best\, &quot\;Gatlin harmonies spin with high and light precision and their music bleeds and screams of love and a lot of living.&quot\; With over a dozen top 40 hits and influenced by faith\, family and their fans\, Larry\, Steve and Rudy will always be ready to &quot\;stand up and sing a tune any night.&quot\;
LOCATION:Smoky Mountain Center for the Performing Arts 1028 Georgia Road Franklin\, NC 28734
UID:e.256.49400
SEQUENCE:3
DTSTAMP:20260420T164912Z
URL:https://members.visitblairsvillega.com/events/details/larry-gatlin-the-gatlin-brothers-08-12-2016-49400
END:VEVENT

END:VCALENDAR
