BEGIN:VCALENDAR
VERSION:2.0
PRODID:-//ChamberMaster//Event Calendar 2.0//EN
METHOD:PUBLISH
X-PUBLISHED-TTL:P3D
REFRESH-INTERVAL:P3D
CALSCALE:GREGORIAN
BEGIN:VEVENT
DTSTART:20160416T180000Z
DTEND:20160416T210000Z
X-MICROSOFT-CDO-ALLDAYEVENT:FALSE
SUMMARY:Lavender Tea Party
DESCRIPTION:Please come join us for a Wonderful Fund Raising Event for local charities ! Our Lavender Tea Party \, will include\; Door Prizes\, Gift Baskets\, entertainment by "High Country Harmonizers" and more! Tickets on sale for $10 prior to the date and $12 at the door. Please contact us at Mountain Presbyterian Church 706-745-8036
X-ALT-DESC;FMTTYPE=text/html:Please come join us for a Wonderful Fund Raising Event for local charities ! Our Lavender Tea Party \, will include\; Door Prizes\, Gift Baskets\, entertainment by &quot\;High Country Harmonizers&quot\; and more! Tickets on sale for $10 prior to the date and $12 at the door. Please contact us at Mountain Presbyterian Church 706-745-8036
LOCATION:Mountain Presbyterian Church 3831 Highway 515 East Blairsville\, GA 30512
UID:e.256.50637
SEQUENCE:3
DTSTAMP:20260421T002143Z
URL:https://members.visitblairsvillega.com/events/details/lavender-tea-party-04-16-2016-50637
END:VEVENT

END:VCALENDAR
