BEGIN:VCALENDAR
VERSION:2.0
PRODID:-//ChamberMaster//Event Calendar 2.0//EN
METHOD:PUBLISH
X-PUBLISHED-TTL:P3D
REFRESH-INTERVAL:P3D
CALSCALE:GREGORIAN
BEGIN:VEVENT
DTSTART:20160325T140000Z
DTEND:20160325T160000Z
X-MICROSOFT-CDO-ALLDAYEVENT:FALSE
SUMMARY:Lawn Renovation
DESCRIPTION:Our speaker will be Dr. Tim Murphy\, retired UGA Crop & Soils Sciences Professor. Spring is a great time to rejuvenate your lawn. Warm and cool season turfgrass establishment\, growth and maintenance will be discussed. We can't promise you a putting green in your front yard\, but if you follow Dr. Murphy's suggestions\, your home will look better\, and your family will enjoy your yard more.
X-ALT-DESC;FMTTYPE=text/html:Our speaker will be Dr. Tim Murphy\, retired UGA Crop &amp\; Soils Sciences Professor. Spring is a great time to rejuvenate your lawn. Warm and cool season turfgrass establishment\, growth and maintenance will be discussed. We can&#39\;t promise you a putting green in your front yard\, but if you follow Dr. Murphy&#39\;s suggestions\, your home will look better\, and your family will enjoy your yard more.
LOCATION:The Georgia Mountain Research & Education Center\, 3 miles south of the Blairsville Square\, on the east side of Hwy 19/129.
UID:e.256.46194
SEQUENCE:3
DTSTAMP:20260421T035726Z
URL:https://members.visitblairsvillega.com/events/details/lawn-renovation-03-25-2016-46194
END:VEVENT

END:VCALENDAR
