BEGIN:VCALENDAR
VERSION:2.0
PRODID:-//ChamberMaster//Event Calendar 2.0//EN
METHOD:PUBLISH
X-PUBLISHED-TTL:P3D
REFRESH-INTERVAL:P3D
CALSCALE:GREGORIAN
BEGIN:VEVENT
DTSTART:20150816T180000Z
DTEND:20150816T210000Z
X-MICROSOFT-CDO-ALLDAYEVENT:FALSE
SUMMARY:"Lazin' and Jammin' on a Sunday Afternoon" at Hightower Creek Vineyards
DESCRIPTION:Our "Lazin and Jammin" on a Sunday afternoon at Hightower Creek Vineyards continues this Sunday August 16th\, 2015 and every Sunday afternoon from 2-5pm.  We have had a lot of local musicians ask us to do this\, so we're going to try it and so far we've been having a blast with it!  This is an open mic event\, so bring out your instrument and let's do some jammin'!! Admission is free. Wine will be sold by the glass or bottle or try a wine lushie or our wine ice cream!!! We are open from 12:30pm-5pm so come out and join us!
X-ALT-DESC;FMTTYPE=text/html:<span style="color:rgba(0\, 0\, 0\, 0.701961)\; font-family:uictfonttextstylebody\; font-size:17px">Our &quot\;Lazin and Jammin&quot\; on a&nbsp\;Sunday afternoon&nbsp\;at Hightower Creek Vineyards continues&nbsp\;this Sunday August 16th\, 2015&nbsp\;and&nbsp\;</span><span style="background-color:rgba(255\, 255\, 255\, 0)\; color:rgba(0\, 0\, 0\, 0.701961)\; font-family:uictfonttextstylebody\; font-size:17px">every&nbsp\;Sunday afternoon from 2-5pm.&nbsp\; We have had a lot of local musicians ask us to do this\, so we&rsquo\;re going to try it and so far we&#39\;ve been having a blast with it! &nbsp\;</span><span style="color:rgba(0\, 0\, 0\, 0.701961)\; font-family:uictfonttextstylebody\; font-size:17px">This is an open mic event\, so b</span><span style="background-color:rgba(255\, 255\, 255\, 0)\; color:rgba(0\, 0\, 0\, 0.701961)\; font-family:uictfonttextstylebody\; font-size:17px">ring out your instrument and let&rsquo\;s do some jammin&rsquo\;!! Admission is free. Wine will be sold by the glass or bottle or try a wine lushie or our wine ice cream!!! We are open&nbsp\;from 12:30pm-5pm&nbsp\;so come out and join us!&nbsp\;</span>
LOCATION:7150 Canaan Drive Hiawassee\, Ga 30546
UID:e.256.41384
SEQUENCE:3
DTSTAMP:20260423T134655Z
URL:https://members.visitblairsvillega.com/events/details/lazin-and-jammin-on-a-sunday-afternoon-at-hightower-creek-vineyards-08-16-2015-41384
END:VEVENT

END:VCALENDAR
