BEGIN:VCALENDAR
VERSION:2.0
PRODID:-//ChamberMaster//Event Calendar 2.0//EN
METHOD:PUBLISH
X-PUBLISHED-TTL:P3D
REFRESH-INTERVAL:P3D
CALSCALE:GREGORIAN
BEGIN:VEVENT
DTSTART:20151018T180000Z
DTEND:20151018T210000Z
X-MICROSOFT-CDO-ALLDAYEVENT:FALSE
SUMMARY:Lazin and Jammin on a Sunday Afternoon at Hightower Creek Vineyards
DESCRIPTION:Our "Lazin and Jammin" on a Sunday afternoon at Hightower Creek Vineyards continues this Sunday and every Sunday afternoon from 2-5pm through October 2015. We have had a lot of local musicians ask us to do this\, so we're going to try it and so far we've been having a blast with it!  This is an open mic event\, so bring out your instrument and let's do some jammin'!! Admission is free. Wine will be sold by the glass or bottle or try a wine lushie!!! We are open from 12:30pm-5pm so come out and join us!
X-ALT-DESC;FMTTYPE=text/html:Our &quot\;Lazin and Jammin&quot\; on a Sunday afternoon at Hightower Creek Vineyards continues this Sunday and every Sunday afternoon from 2-5pm through October 2015. We have had a lot of local musicians ask us to do this\, so we&rsquo\;re going to try it and so far we&#39\;ve been having a blast with it! &nbsp\;This is an open mic event\, so bring out your instrument and let&rsquo\;s do some jammin&rsquo\;!! Admission is free. Wine will be sold by the glass or bottle or try a wine lushie!!! We are open from 12:30pm-5pm so come out and join us!&nbsp\;
LOCATION:7150 Canaan Drive Hiawassee\, GA 30546
UID:e.256.44221
SEQUENCE:3
DTSTAMP:20260423T104201Z
URL:https://members.visitblairsvillega.com/events/details/lazin-and-jammin-on-a-sunday-afternoon-at-hightower-creek-vineyards-10-18-2015-44221
END:VEVENT

END:VCALENDAR
