BEGIN:VCALENDAR
VERSION:2.0
PRODID:-//ChamberMaster//Event Calendar 2.0//EN
METHOD:PUBLISH
X-PUBLISHED-TTL:P3D
REFRESH-INTERVAL:P3D
CALSCALE:GREGORIAN
BEGIN:VEVENT
DTSTART:20140227T140000Z
DTEND:20140227T210000Z
X-MICROSOFT-CDO-ALLDAYEVENT:FALSE
SUMMARY:Leadership Development for Non Profit Professionals
DESCRIPTION:Ethical Leadership\n\nDate February 27\, 2014\n\nTime 9 a.m. to 4 p.m.\n\nLocation: University of Georgia Fanning Building 1240 S. Lumpkin St.\, Athens\, GA 30602\n\n\n\nFees $89  Special introductory price for Ethical Leadership (lunch & parking included)\n\n\n\nOther courses in the series: \n\n$169 for one course (lunch & parking included) \n\n$145 per course if you register for three or more courses\n\n(see www.fanning.uga.edu for information about other course offerings \n\nNonprofits registering five or more members will receive the $145 rate per course\n\n\n\nFor more information: Visit www.fanning.uga.edu \n\nContact Jason Bedgood at jason.bedgood@fanning.uga.edu\n\nor 706-542-5266
X-ALT-DESC;FMTTYPE=text/html:<strong>Ethical Leadership</strong><br />\nDate February 27\, 2014<br />\nTime 9 a.m. to 4 p.m.<br />\nLocation: University of Georgia Fanning Building 1240 S. Lumpkin St.\, Athens\, GA 30602<br />\n<br />\nFees $89&nbsp\; Special introductory price for Ethical Leadership (lunch &amp\; parking included)<br />\n<br />\nOther courses in the series:&nbsp\;<br />\n$169 for one course (lunch &amp\; parking included)&nbsp\;<br />\n$145 per course if you register for three or more courses<br />\n(see www.fanning.uga.edu for information about other course offerings&nbsp\;<br />\nNonprofits registering five or more members will receive the $145 rate per course<br />\n<br />\nFor more information: Visit www.fanning.uga.edu&nbsp\;<br />\nContact Jason Bedgood at jason.bedgood@fanning.uga.edu<br />\nor 706-542-5266
LOCATION:University of Georgia Fanning Building 1240 S. Lumpkin St. Athens\, GA 30602
UID:e.256.23041
SEQUENCE:3
DTSTAMP:20260424T165046Z
URL:https://members.visitblairsvillega.com/events/details/leadership-development-for-non-profit-professionals-02-27-2014-23041
END:VEVENT

END:VCALENDAR
