BEGIN:VCALENDAR
VERSION:2.0
PRODID:-//ChamberMaster//Event Calendar 2.0//EN
METHOD:PUBLISH
X-PUBLISHED-TTL:P3D
REFRESH-INTERVAL:P3D
CALSCALE:GREGORIAN
BEGIN:VEVENT
DTSTART:20140114T223000Z
DTEND:20140115T013000Z
X-MICROSOFT-CDO-ALLDAYEVENT:FALSE
SUMMARY:Leadership Union 2014
DESCRIPTION:Leadership Union Kickoff & Orientation
X-ALT-DESC;FMTTYPE=text/html:Leadership Union Kickoff &amp\; Orientation<br type="_moz" />\n
LOCATION:Union County Community Center
UID:e.256.22228
SEQUENCE:3
DTSTAMP:20260424T180536Z
URL:https://members.visitblairsvillega.com/events/details/leadership-union-2014-01-14-2014-22228
END:VEVENT

END:VCALENDAR
